BEGIN:VCALENDAR
VERSION:2.0
PRODID:-//The Vanilla Bean Café - ECPv6.15.20//NONSGML v1.0//EN
CALSCALE:GREGORIAN
METHOD:PUBLISH
X-ORIGINAL-URL:https://thevanillabeancafe.com
X-WR-CALDESC:Events for The Vanilla Bean Café
REFRESH-INTERVAL;VALUE=DURATION:PT1H
X-Robots-Tag:noindex
X-PUBLISHED-TTL:PT1H
BEGIN:VTIMEZONE
TZID:America/New_York
BEGIN:DAYLIGHT
TZOFFSETFROM:-0500
TZOFFSETTO:-0400
TZNAME:EDT
DTSTART:20250309T070000
END:DAYLIGHT
BEGIN:STANDARD
TZOFFSETFROM:-0400
TZOFFSETTO:-0500
TZNAME:EST
DTSTART:20251102T060000
END:STANDARD
BEGIN:DAYLIGHT
TZOFFSETFROM:-0500
TZOFFSETTO:-0400
TZNAME:EDT
DTSTART:20260308T070000
END:DAYLIGHT
BEGIN:STANDARD
TZOFFSETFROM:-0400
TZOFFSETTO:-0500
TZNAME:EST
DTSTART:20261101T060000
END:STANDARD
BEGIN:DAYLIGHT
TZOFFSETFROM:-0500
TZOFFSETTO:-0400
TZNAME:EDT
DTSTART:20270314T070000
END:DAYLIGHT
BEGIN:STANDARD
TZOFFSETFROM:-0400
TZOFFSETTO:-0500
TZNAME:EST
DTSTART:20271107T060000
END:STANDARD
END:VTIMEZONE
BEGIN:VEVENT
DTSTART;TZID=America/New_York:20260516T183000
DTEND;TZID=America/New_York:20260516T203000
DTSTAMP:20260425T083634
CREATED:20260317T153531Z
LAST-MODIFIED:20260317T153531Z
UID:5610-1778956200-1778963400@thevanillabeancafe.com
SUMMARY:Poets at Large
DESCRIPTION:James Finnegan & Irena Kaçi \nJames Finnegan has published poems in Ploughshares\, Poetry Northwest\, The Southern Review\, The Virginia Quarterly Review\, as well as in the anthologies: Good Poems:American Places edited by Garrison Keillor; Laureates of Connecticut; Shadows of Unfinished Things; Imagining Vesalius; Waking Up to the Earth; and Of Hartford in Many Lights. For a decade he served as president of the Friends & Enemies of Wallace Stevens (stevenspoetry.org). He posts aphoristic ars poetica on the blog ursprache: https://ursprache.blogspot.com/\nIrena Kaçi is a poet and writer living in Worcester\, MA with her spouse and two children. She moved to Worcester in 2015\, almost a decade after graduating from Clark University. She writes for Pulse Magazine and is a Poetry Editor In Residence for the Worcester Writers’ Collective. Her creative work has appeared in the Worcester Review\, Atticus Review\, Blue Mountain Review and others. Event begins at 6:30 p.m. Contact karen.warinsky@gmail.com to be in the open mic. Age 16 and up. $10.00 includes raffle.
URL:https://thevanillabeancafe.com/event/poets-at-large-3/
LOCATION:The Vanilla Bean Cafe\, 450 Deerfield Road\, Pomfret\, CT\, 06259\, United States
ATTACH;FMTTYPE=image/jpeg:https://thevanillabeancafe.com/wp-content/uploads/2023/06/Poets-at-large.jpg
ORGANIZER;CN="The Vanilla Bean Caf%C3%A9":MAILTO:barry@thevanillabeancafe.com
END:VEVENT
END:VCALENDAR